BEGIN:VCALENDAR
VERSION:2.0
PRODID:Events Booking
BEGIN:VEVENT
UID:69e4f1262b98c
SUMMARY:AFLYST Nautic Marine - Sydkajen - Duelighed praktisk
DESCRIPTION:
LOCATION:København\, 1259 Region Hovedstaden\, Danmark
DTSTART:20260419T150000Z
DTEND:20260419T170000Z
DTSTAMP:20260417T175142Z
ORGANIZER;CN=Danish Yacht Union:MAILTO:administration@danishyachtunion.dk
GEO:55.699571;12.596147
X-APPLE-STRUCTURED-LOCATION;VALUE=URI;X-ADDRESS=København\, 1259 Region Ho
 vedstaden\, Danmark;X-APPLE-RADIUS=72;X-TITLE=Amerika Kaj:55.699571;12.596
 147
END:VEVENT
END:VCALENDAR