BEGIN:VCALENDAR
VERSION:2.0
PRODID:Events Booking
BEGIN:VEVENT
UID:69e4f0a9606d4
SUMMARY:Watergames - Duelighed praktisk (sejl)
DESCRIPTION:
LOCATION:Brøndby Havnevej 13\, 2650 Hvidovre\, Danmark
DTSTART:20260503T120000Z
DTEND:20260503T140000Z
DTSTAMP:20260121T202023Z
ORGANIZER;CN=Danish Yacht Union:MAILTO:administration@danishyachtunion.dk
GEO:55.609213;12.444093
X-APPLE-STRUCTURED-LOCATION;VALUE=URI;X-ADDRESS=Brøndby Havnevej 13\, 2650
  Hvidovre\, Danmark;X-APPLE-RADIUS=72;X-TITLE=Watergames Kbh\, Brøndby Ha
 vn:55.609213;12.444093
END:VEVENT
END:VCALENDAR