BEGIN:VCALENDAR
VERSION:2.0
PRODID:Events Booking
BEGIN:VEVENT
UID:69e534f5d0a43
SUMMARY:Nautic Marine - Skovshoved - Speedbådsprøve
DESCRIPTION:
LOCATION:Havnevej 4\, 2670 Greve\, Danmark
DTSTART:20260628T110000Z
DTEND:20260628T130000Z
DTSTAMP:20260407T093209Z
ORGANIZER;CN=Danish Yacht Union:MAILTO:administration@danishyachtunion.dk
GEO:55.568202;12.281786
X-APPLE-STRUCTURED-LOCATION;VALUE=URI;X-ADDRESS=Havnevej 4\, 2670 Greve\, D
 anmark;X-APPLE-RADIUS=72;X-TITLE=Mosede Havn:55.568202;12.281786
END:VEVENT
END:VCALENDAR