BEGIN:VCALENDAR
VERSION:2.0
PRODID:Events Booking
BEGIN:VEVENT
UID:69e507c1a386e
SUMMARY:Watergames Århus HOLD-2 -  Duelighedsprøve Praktisk (sejlbåd)
DESCRIPTION:
LOCATION:Marselisborg Havnevej 20\, 8000 Aarhus\, Danmark
DTSTART:20260419T120000Z
DTEND:20260419T140000Z
DTSTAMP:20260313T081439Z
ORGANIZER;CN=Danish Yacht Union:MAILTO:administration@danishyachtunion.dk
GEO:56.139266;10.21467
X-APPLE-STRUCTURED-LOCATION;VALUE=URI;X-ADDRESS=Marselisborg Havnevej 20\, 
 8000 Aarhus\, Danmark;X-APPLE-RADIUS=72;X-TITLE=Watergames Aarhus:56.13926
 6;10.21467
END:VEVENT
END:VCALENDAR