BEGIN:VCALENDAR
VERSION:2.0
PRODID:Events Booking
BEGIN:VEVENT
UID:69e53358b1dfb
SUMMARY:Watergames speedbåd - Aalborg
DESCRIPTION:
LOCATION:Vestre Fjordvej\, 9000 Aalborg\, Danmark
DTSTART:20260628T080000Z
DTEND:20260628T100000Z
DTSTAMP:20260121T202023Z
ORGANIZER;CN=Danish Yacht Union:MAILTO:administration@danishyachtunion.dk
GEO:57.055769;9.89247
X-APPLE-STRUCTURED-LOCATION;VALUE=URI;X-ADDRESS=Vestre Fjordvej\, 9000 Aalb
 org\, Danmark;X-APPLE-RADIUS=72;X-TITLE=Watergames Aalborg:57.055769;9.892
 47
END:VEVENT
END:VCALENDAR