BEGIN:VCALENDAR
VERSION:2.0
PRODID:Events Booking
BEGIN:VEVENT
UID:69e534985d59d
SUMMARY:Sejlerkort.dk - Speedbådsprøve - Aabenraa
DESCRIPTION:
LOCATION:Kystvej 55\, Aabenraa\, 6200 Region of Southern Denmark\, Denmark
DTSTART:20260627T100000Z
DTEND:20260627T120000Z
DTSTAMP:20260115T165125Z
ORGANIZER;CN=Danish Yacht Union:MAILTO:administration@danishyachtunion.dk
GEO:55.034939;9.423597
X-APPLE-STRUCTURED-LOCATION;VALUE=URI;X-ADDRESS=Kystvej 55\, Aabenraa\, 620
 0 Region of Southern Denmark\, Denmark;X-APPLE-RADIUS=72;X-TITLE=Aabenraa 
 Lystbådehavn:55.034939;9.423597
END:VEVENT
END:VCALENDAR